BEGIN:VCALENDAR
VERSION:2.0
PRODID:-//Schützengilde Hausen-Seglohe e.V. - ECPv6.15.20//NONSGML v1.0//EN
CALSCALE:GREGORIAN
METHOD:PUBLISH
X-ORIGINAL-URL:https://sg-hausen-seglohe.de
X-WR-CALDESC:Veranstaltungen für Schützengilde Hausen-Seglohe e.V.
REFRESH-INTERVAL;VALUE=DURATION:PT1H
X-Robots-Tag:noindex
X-PUBLISHED-TTL:PT1H
BEGIN:VTIMEZONE
TZID:Europe/Berlin
BEGIN:DAYLIGHT
TZOFFSETFROM:+0100
TZOFFSETTO:+0200
TZNAME:CEST
DTSTART:20230326T010000
END:DAYLIGHT
BEGIN:STANDARD
TZOFFSETFROM:+0200
TZOFFSETTO:+0100
TZNAME:CET
DTSTART:20231029T010000
END:STANDARD
BEGIN:DAYLIGHT
TZOFFSETFROM:+0100
TZOFFSETTO:+0200
TZNAME:CEST
DTSTART:20240331T010000
END:DAYLIGHT
BEGIN:STANDARD
TZOFFSETFROM:+0200
TZOFFSETTO:+0100
TZNAME:CET
DTSTART:20241027T010000
END:STANDARD
BEGIN:DAYLIGHT
TZOFFSETFROM:+0100
TZOFFSETTO:+0200
TZNAME:CEST
DTSTART:20250330T010000
END:DAYLIGHT
BEGIN:STANDARD
TZOFFSETFROM:+0200
TZOFFSETTO:+0100
TZNAME:CET
DTSTART:20251026T010000
END:STANDARD
END:VTIMEZONE
BEGIN:VEVENT
DTSTART;TZID=Europe/Berlin:20240202T190000
DTEND;TZID=Europe/Berlin:20240202T220000
DTSTAMP:20260423T230920
CREATED:20240118T184927Z
LAST-MODIFIED:20240118T185239Z
UID:5357-1706900400-1706911200@sg-hausen-seglohe.de
SUMMARY:FFW Hausen Generalversammlung
DESCRIPTION:
URL:https://sg-hausen-seglohe.de/event/ffw-hausen-generalversammlung/
LOCATION:Schützenheim Hausen\, Dorfstraße 15\, Fremdingen-Hausen\, 86742\, Deutschland
CATEGORIES:Generalversammlung FFW Hausen
ATTACH;FMTTYPE=image/png:https://sg-hausen-seglohe.de/wp-content/uploads/2024/01/FFW-Logo-2021.png
END:VEVENT
BEGIN:VEVENT
DTSTART;TZID=Europe/Berlin:20240204T180000
DTEND;TZID=Europe/Berlin:20240204T235900
DTSTAMP:20260423T230920
CREATED:20230815T202303Z
LAST-MODIFIED:20231123T195013Z
UID:5039-1707069600-1707091140@sg-hausen-seglohe.de
SUMMARY:Goggel Essen
DESCRIPTION:jeden 1. Sonntag in den Monaten September – April
URL:https://sg-hausen-seglohe.de/event/goggel-essen-5/
LOCATION:Schützenheim Hausen\, Dorfstraße 15\, Fremdingen-Hausen\, 86742\, Deutschland
CATEGORIES:Goggl Essen
ATTACH;FMTTYPE=image/jpeg:https://sg-hausen-seglohe.de/wp-content/uploads/2022/09/Goggelbild.jpg
END:VEVENT
BEGIN:VEVENT
DTSTART;TZID=Europe/Berlin:20240212T190000
DTEND;TZID=Europe/Berlin:20240213T043000
DTSTAMP:20260423T230920
CREATED:20231123T195833Z
LAST-MODIFIED:20231123T195950Z
UID:5285-1707764400-1707798600@sg-hausen-seglohe.de
SUMMARY:Rosenmontagsball
DESCRIPTION:
URL:https://sg-hausen-seglohe.de/event/rosenmontagsball/
LOCATION:Schützenheim Hausen\, Dorfstraße 15\, Fremdingen-Hausen\, 86742\, Deutschland
CATEGORIES:Rosenmontagsball
ATTACH;FMTTYPE=image/png:https://sg-hausen-seglohe.de/wp-content/uploads/2021/02/Unbenannt-1.png
END:VEVENT
BEGIN:VEVENT
DTSTART;TZID=Europe/Berlin:20240217T110000
DTEND;TZID=Europe/Berlin:20240217T170000
DTSTAMP:20260423T230920
CREATED:20240118T185034Z
LAST-MODIFIED:20240118T185036Z
UID:5359-1708167600-1708189200@sg-hausen-seglohe.de
SUMMARY:Private Geburtstagsfeier
DESCRIPTION:
URL:https://sg-hausen-seglohe.de/event/private-geburtstagsfeier/
LOCATION:Schützenheim Hausen\, Dorfstraße 15\, Fremdingen-Hausen\, 86742\, Deutschland
END:VEVENT
BEGIN:VEVENT
DTSTART;TZID=Europe/Berlin:20240224T190000
DTEND;TZID=Europe/Berlin:20240224T235900
DTSTAMP:20260423T230920
CREATED:20240118T185610Z
LAST-MODIFIED:20240118T185611Z
UID:5362-1708801200-1708819140@sg-hausen-seglohe.de
SUMMARY:Generalversammlung 2024 Jagdgenossenschaft Hausen
DESCRIPTION:alle Jagdgenossen sind herzlich eingeladen
URL:https://sg-hausen-seglohe.de/event/generalversammlung-2024-jagdgenossenschaft-hausen/
LOCATION:Schützenheim Hausen\, Dorfstraße 15\, Fremdingen-Hausen\, 86742\, Deutschland
CATEGORIES:Generalversammlung Jagdgenossenschaft
ATTACH;FMTTYPE=image/jpeg:https://sg-hausen-seglohe.de/wp-content/uploads/2023/08/Jaegerbild.jpg
END:VEVENT
END:VCALENDAR