BEGIN:VCALENDAR
VERSION:2.0
PRODID:-//Schützengilde Hausen-Seglohe e.V. - ECPv6.15.20//NONSGML v1.0//EN
CALSCALE:GREGORIAN
METHOD:PUBLISH
X-ORIGINAL-URL:https://sg-hausen-seglohe.de
X-WR-CALDESC:Veranstaltungen für Schützengilde Hausen-Seglohe e.V.
REFRESH-INTERVAL;VALUE=DURATION:PT1H
X-Robots-Tag:noindex
X-PUBLISHED-TTL:PT1H
BEGIN:VTIMEZONE
TZID:Europe/Berlin
BEGIN:DAYLIGHT
TZOFFSETFROM:+0100
TZOFFSETTO:+0200
TZNAME:CEST
DTSTART:20230326T010000
END:DAYLIGHT
BEGIN:STANDARD
TZOFFSETFROM:+0200
TZOFFSETTO:+0100
TZNAME:CET
DTSTART:20231029T010000
END:STANDARD
BEGIN:DAYLIGHT
TZOFFSETFROM:+0100
TZOFFSETTO:+0200
TZNAME:CEST
DTSTART:20240331T010000
END:DAYLIGHT
BEGIN:STANDARD
TZOFFSETFROM:+0200
TZOFFSETTO:+0100
TZNAME:CET
DTSTART:20241027T010000
END:STANDARD
BEGIN:DAYLIGHT
TZOFFSETFROM:+0100
TZOFFSETTO:+0200
TZNAME:CEST
DTSTART:20250330T010000
END:DAYLIGHT
BEGIN:STANDARD
TZOFFSETFROM:+0200
TZOFFSETTO:+0100
TZNAME:CET
DTSTART:20251026T010000
END:STANDARD
END:VTIMEZONE
BEGIN:VEVENT
DTSTART;TZID=Europe/Berlin:20240105T180000
DTEND;TZID=Europe/Berlin:20240106T013300
DTSTAMP:20260424T001124
CREATED:20231123T195613Z
LAST-MODIFIED:20231123T195650Z
UID:5282-1704477600-1704504780@sg-hausen-seglohe.de
SUMMARY:Königsfeier 2024
DESCRIPTION:unsere traditionelle Königsfeier mit Krönung unserer neuen Schützenkönige \n\n\n\n18:00 Uhr Abholung der amtierenden Schützenkönige zusammen mit der Musikkapelle Fremdingen \n\n\n\nab ca. 19:00 Uhr Start der Veranstaltung\, Musikalische Umrahmung:  DJ Jürgen/Erlbach
URL:https://sg-hausen-seglohe.de/event/koenigsfeier-2024/
LOCATION:Schützenheim Hausen\, Dorfstraße 15\, Fremdingen-Hausen\, 86742\, Deutschland
CATEGORIES:Königsfeier
ATTACH;FMTTYPE=image/png:https://sg-hausen-seglohe.de/wp-content/uploads/2021/02/Unbenannt-1.png
END:VEVENT
BEGIN:VEVENT
DTSTART;TZID=Europe/Berlin:20240128T090000
DTEND;TZID=Europe/Berlin:20240128T120000
DTSTAMP:20260424T001124
CREATED:20240118T184706Z
LAST-MODIFIED:20240118T184759Z
UID:5354-1706432400-1706443200@sg-hausen-seglohe.de
SUMMARY:Sebastiansfeier 2024
DESCRIPTION:
URL:https://sg-hausen-seglohe.de/event/sebastiansfeier-20247/
END:VEVENT
END:VCALENDAR