BEGIN:VCALENDAR
VERSION:2.0
PRODID:-//Schützengilde Hausen-Seglohe e.V. - ECPv6.15.20//NONSGML v1.0//EN
CALSCALE:GREGORIAN
METHOD:PUBLISH
X-WR-CALNAME:Schützengilde Hausen-Seglohe e.V.
X-ORIGINAL-URL:https://sg-hausen-seglohe.de
X-WR-CALDESC:Veranstaltungen für Schützengilde Hausen-Seglohe e.V.
REFRESH-INTERVAL;VALUE=DURATION:PT1H
X-Robots-Tag:noindex
X-PUBLISHED-TTL:PT1H
BEGIN:VTIMEZONE
TZID:Europe/Berlin
BEGIN:DAYLIGHT
TZOFFSETFROM:+0100
TZOFFSETTO:+0200
TZNAME:CEST
DTSTART:20220327T010000
END:DAYLIGHT
BEGIN:STANDARD
TZOFFSETFROM:+0200
TZOFFSETTO:+0100
TZNAME:CET
DTSTART:20221030T010000
END:STANDARD
BEGIN:DAYLIGHT
TZOFFSETFROM:+0100
TZOFFSETTO:+0200
TZNAME:CEST
DTSTART:20230326T010000
END:DAYLIGHT
BEGIN:STANDARD
TZOFFSETFROM:+0200
TZOFFSETTO:+0100
TZNAME:CET
DTSTART:20231029T010000
END:STANDARD
BEGIN:DAYLIGHT
TZOFFSETFROM:+0100
TZOFFSETTO:+0200
TZNAME:CEST
DTSTART:20240331T010000
END:DAYLIGHT
BEGIN:STANDARD
TZOFFSETFROM:+0200
TZOFFSETTO:+0100
TZNAME:CET
DTSTART:20241027T010000
END:STANDARD
END:VTIMEZONE
BEGIN:VEVENT
DTSTART;TZID=Europe/Berlin:20231105T180000
DTEND;TZID=Europe/Berlin:20231105T235900
DTSTAMP:20260424T030408
CREATED:20230815T202210Z
LAST-MODIFIED:20230815T202536Z
UID:5035-1699207200-1699228740@sg-hausen-seglohe.de
SUMMARY:Goggel Essen
DESCRIPTION:jeden 1. Sonntag in den Monaten September – April
URL:https://sg-hausen-seglohe.de/event/goggel-essen-3/
LOCATION:Schützenheim Hausen\, Dorfstraße 15\, Fremdingen-Hausen\, 86742\, Deutschland
CATEGORIES:Goggl Essen
ATTACH;FMTTYPE=image/jpeg:https://sg-hausen-seglohe.de/wp-content/uploads/2022/09/Goggelbild.jpg
END:VEVENT
BEGIN:VEVENT
DTSTART;TZID=Europe/Berlin:20231107T180000
DTEND;TZID=Europe/Berlin:20231107T223000
DTSTAMP:20260424T030408
CREATED:20231102T182818Z
LAST-MODIFIED:20231102T184050Z
UID:5054-1699380000-1699396200@sg-hausen-seglohe.de
SUMMARY:Gemeindemeisterschaft Schiesstermin Schützen Hausen
DESCRIPTION:
URL:https://sg-hausen-seglohe.de/event/gemeindemeisterschaft-schiesstermin-schuetzen-hausen/
LOCATION:Schützenheim Hochaltingen\, Sankt-Ulrich-Straße 5\, Fremdingen\, 86742\, Deutschland
CATEGORIES:Schießtermin
ATTACH;FMTTYPE=image/jpeg:https://sg-hausen-seglohe.de/wp-content/uploads/2023/11/Terminliste-Gemeindemeisterschaft-2023.jpg
END:VEVENT
BEGIN:VEVENT
DTSTART;TZID=Europe/Berlin:20231124T150000
DTEND;TZID=Europe/Berlin:20231124T170000
DTSTAMP:20260424T030408
CREATED:20231123T194411Z
LAST-MODIFIED:20231123T194412Z
UID:5278-1700838000-1700845200@sg-hausen-seglohe.de
SUMMARY:Grünanlagenpflege des Schützenvereins
DESCRIPTION:jeder ist herzlich eingeladen\, unserem Verein bei der Pflege der Außenanlage zu helfen 🙂
URL:https://sg-hausen-seglohe.de/event/gruenanlagenpflege-des-schuetzenvereins/
CATEGORIES:Sonstiges
END:VEVENT
BEGIN:VEVENT
DTSTART;TZID=Europe/Berlin:20231125T170000
DTEND;TZID=Europe/Berlin:20231126T002900
DTSTAMP:20260424T030408
CREATED:20231123T194148Z
LAST-MODIFIED:20231123T194150Z
UID:5274-1700931600-1700958540@sg-hausen-seglohe.de
SUMMARY:Glühweinfest
DESCRIPTION:
URL:https://sg-hausen-seglohe.de/event/gluehweinfest/
LOCATION:Vorplatz Schützenheim Hausen\, Dorfstraße 15\, Fremdingen-Hausen\, 86742\, Deutschland
CATEGORIES:Private Veranstaltung
END:VEVENT
END:VCALENDAR