BEGIN:VCALENDAR
VERSION:2.0
PRODID:-//Schützengilde Hausen-Seglohe e.V. - ECPv6.15.20//NONSGML v1.0//EN
CALSCALE:GREGORIAN
METHOD:PUBLISH
X-ORIGINAL-URL:https://sg-hausen-seglohe.de
X-WR-CALDESC:Veranstaltungen für Schützengilde Hausen-Seglohe e.V.
REFRESH-INTERVAL;VALUE=DURATION:PT1H
X-Robots-Tag:noindex
X-PUBLISHED-TTL:PT1H
BEGIN:VTIMEZONE
TZID:Europe/Berlin
BEGIN:DAYLIGHT
TZOFFSETFROM:+0100
TZOFFSETTO:+0200
TZNAME:CEST
DTSTART:20220327T010000
END:DAYLIGHT
BEGIN:STANDARD
TZOFFSETFROM:+0200
TZOFFSETTO:+0100
TZNAME:CET
DTSTART:20221030T010000
END:STANDARD
BEGIN:DAYLIGHT
TZOFFSETFROM:+0100
TZOFFSETTO:+0200
TZNAME:CEST
DTSTART:20230326T010000
END:DAYLIGHT
BEGIN:STANDARD
TZOFFSETFROM:+0200
TZOFFSETTO:+0100
TZNAME:CET
DTSTART:20231029T010000
END:STANDARD
BEGIN:DAYLIGHT
TZOFFSETFROM:+0100
TZOFFSETTO:+0200
TZNAME:CEST
DTSTART:20240331T010000
END:DAYLIGHT
BEGIN:STANDARD
TZOFFSETFROM:+0200
TZOFFSETTO:+0100
TZNAME:CET
DTSTART:20241027T010000
END:STANDARD
END:VTIMEZONE
BEGIN:VEVENT
DTSTART;TZID=Europe/Berlin:20230903T180000
DTEND;TZID=Europe/Berlin:20230903T235900
DTSTAMP:20260424T060433
CREATED:20230815T202137Z
LAST-MODIFIED:20230815T202603Z
UID:5033-1693764000-1693785540@sg-hausen-seglohe.de
SUMMARY:Goggel Essen
DESCRIPTION:jeden 1. Sonntag in den Monaten September – April
URL:https://sg-hausen-seglohe.de/event/goggel-essen/
LOCATION:Schützenheim Hausen\, Dorfstraße 15\, Fremdingen-Hausen\, 86742\, Deutschland
CATEGORIES:Goggl Essen
ATTACH;FMTTYPE=image/jpeg:https://sg-hausen-seglohe.de/wp-content/uploads/2022/09/Goggelbild.jpg
END:VEVENT
END:VCALENDAR